BEGIN:VCALENDAR
VERSION:2.0
PRODID:Events Booking
BEGIN:VEVENT
UID:69e5c1ce7453b
SUMMARY:North West MND Support Group (online)
DESCRIPTION:
DTSTART:20260601T010000Z
DTEND:20260601T020000Z
DTSTAMP:20260416T134959Z
ORGANIZER;CN=MNDNSW Website - Events:MAILTO:info@mndnsw.org.au
END:VEVENT
END:VCALENDAR